BEGIN:VCALENDAR
VERSION:2.0
PRODID:-//hacksw/handcal//NONSGML v1.0//EN
BEGIN:VEVENT
SUMMARY:Championnat U11 Elite
UID:67d6c042-b50f-457f-bbef-024e93cde02b
DTSTART:20260425T090000Z
DTEND:20260425T220000Z
LOCATION:SMOC Football Rue du petit bois 45800 Saint jean de braye
CATEGORIES:Sportif
STATUS:
URL;VALUE=URI:https://www.smocfoot.net/evenements/2026/04/25/championnat-u11-elite-2444605
END:VEVENT
END:VCALENDAR
